BEGIN:VCALENDAR
VERSION:2.0
PRODID:-//Village Music Wellington - ECPv6.15.20//NONSGML v1.0//EN
CALSCALE:GREGORIAN
METHOD:PUBLISH
X-ORIGINAL-URL:https://villagemusicwellington.com
X-WR-CALDESC:Events for Village Music Wellington
REFRESH-INTERVAL;VALUE=DURATION:PT1H
X-Robots-Tag:noindex
X-PUBLISHED-TTL:PT1H
BEGIN:VTIMEZONE
TZID:America/New_York
BEGIN:DAYLIGHT
TZOFFSETFROM:-0500
TZOFFSETTO:-0400
TZNAME:EDT
DTSTART:20250309T070000
END:DAYLIGHT
BEGIN:STANDARD
TZOFFSETFROM:-0400
TZOFFSETTO:-0500
TZNAME:EST
DTSTART:20251102T060000
END:STANDARD
BEGIN:DAYLIGHT
TZOFFSETFROM:-0500
TZOFFSETTO:-0400
TZNAME:EDT
DTSTART:20260308T070000
END:DAYLIGHT
BEGIN:STANDARD
TZOFFSETFROM:-0400
TZOFFSETTO:-0500
TZNAME:EST
DTSTART:20261101T060000
END:STANDARD
BEGIN:DAYLIGHT
TZOFFSETFROM:-0500
TZOFFSETTO:-0400
TZNAME:EDT
DTSTART:20270314T070000
END:DAYLIGHT
BEGIN:STANDARD
TZOFFSETFROM:-0400
TZOFFSETTO:-0500
TZNAME:EST
DTSTART:20271107T060000
END:STANDARD
END:VTIMEZONE
BEGIN:VEVENT
DTSTART;TZID=America/New_York:20260423T190000
DTEND;TZID=America/New_York:20260423T220000
DTSTAMP:20260423T062710
CREATED:20260410T154804Z
LAST-MODIFIED:20260410T154931Z
UID:10001352-1776970800-1776981600@villagemusicwellington.com
SUMMARY:Open Mic Night!
DESCRIPTION:Thursday\, Apr 23rd @ 7:00 p.m. \n\n\nJoin us for OPEN MIC! We invite all musicians\, karaoke singers\, poets and stand-up comedians to come in and make the Village Music stage their own!!! Attention Musicians: We vet acts for weekend gigs at Open Mic!! We look forward to welcoming all genres of artists sharing their talents with the community. Or just sit back\, relax\, enjoy the cafe’s artisan menu and take in the show. Please call ahead to reserve your spot at 561-798-5334.
URL:https://villagemusicwellington.com/event/open-mic-night-9/
LOCATION:Village Music Cafe\, 10410 West Forest Hill Blvd\, Wellington\, FL\, 33414\, United States
ATTACH;FMTTYPE=image/jpeg:https://villagemusicwellington.com/wp-content/uploads/2019/07/Open_mic_night-e1767882264305.jpg
GEO:26.6498445;-80.2102983
X-APPLE-STRUCTURED-LOCATION;VALUE=URI;X-ADDRESS=Village Music Cafe 10410 West Forest Hill Blvd Wellington FL 33414 United States;X-APPLE-RADIUS=500;X-TITLE=10410 West Forest Hill Blvd:geo:-80.2102983,26.6498445
END:VEVENT
BEGIN:VEVENT
DTSTART;TZID=America/New_York:20260424T200000
DTEND;TZID=America/New_York:20260424T230000
DTSTAMP:20260423T062710
CREATED:20260413T153902Z
LAST-MODIFIED:20260413T153916Z
UID:10001353-1777060800-1777071600@villagemusicwellington.com
SUMMARY:Spider Cherry Duo Live!
DESCRIPTION:Mark your calendars – Spider Cherry is back!! London’s multi-keyboardist extraordinaire Nathan Mercado will blow your mind! Nathan’s phenomenal instrumental talents\, soulful voice and eclectic repertoire make his show a unique entertainment experience that you won’t want to miss! Join us for a fun evening with one of SoFlo’s most popular entertainers! \n CLICK HERE TO BUY TICKETS ONLINE. (Takes you to our other website.)
URL:https://villagemusicwellington.com/event/spider-cherry-duo-live-8/
LOCATION:Village Music Cafe\, 10410 West Forest Hill Blvd\, Wellington\, FL\, 33414\, United States
ATTACH;FMTTYPE=image/jpeg:https://villagemusicwellington.com/wp-content/uploads/2025/09/Spider-Cherry-Duo-name.jpg
GEO:26.6498445;-80.2102983
X-APPLE-STRUCTURED-LOCATION;VALUE=URI;X-ADDRESS=Village Music Cafe 10410 West Forest Hill Blvd Wellington FL 33414 United States;X-APPLE-RADIUS=500;X-TITLE=10410 West Forest Hill Blvd:geo:-80.2102983,26.6498445
END:VEVENT
BEGIN:VEVENT
DTSTART;TZID=America/New_York:20260425T200000
DTEND;TZID=America/New_York:20260425T230000
DTSTAMP:20260423T062710
CREATED:20260413T154215Z
LAST-MODIFIED:20260413T154215Z
UID:10001354-1777147200-1777158000@villagemusicwellington.com
SUMMARY:JP Soars & the Red Hots Live!
DESCRIPTION:It is always an honor to welcome the fabulous JP SOARS & The Red Hots back to the Village Music stage! JP is an internationally acclaimed blues guitarist who won 1st Place in the 2009 International Blues Challenge in Memphis and was nominated as “Blues Rock Artist of the Year” at the 40th Annual blues Music Awards. JP has released five albums\, toured internationally and received extensive worldwide airplay. We are thrilled to welcome him back to Village Music! Please get your tickets early for this show – they will sell out! \n CLICK HERE TO BUY TICKETS ONLINE. (Takes you to our other website.)
URL:https://villagemusicwellington.com/event/jp-soars-the-red-hots-live-22/
LOCATION:Village Music Cafe\, 10410 West Forest Hill Blvd\, Wellington\, FL\, 33414\, United States
ATTACH;FMTTYPE=image/jpeg:https://villagemusicwellington.com/wp-content/uploads/2025/03/JP-Soars-Ticket.jpg
GEO:26.6498445;-80.2102983
X-APPLE-STRUCTURED-LOCATION;VALUE=URI;X-ADDRESS=Village Music Cafe 10410 West Forest Hill Blvd Wellington FL 33414 United States;X-APPLE-RADIUS=500;X-TITLE=10410 West Forest Hill Blvd:geo:-80.2102983,26.6498445
END:VEVENT
BEGIN:VEVENT
DTSTART;TZID=America/New_York:20260427T183000
DTEND;TZID=America/New_York:20260427T220000
DTSTAMP:20260423T062710
CREATED:20260104T220233Z
LAST-MODIFIED:20260104T220233Z
UID:10001302-1777314600-1777327200@villagemusicwellington.com
SUMMARY:Trivia Night with Freshly Baked Pizza
DESCRIPTION:Along with delicious NEW FEATURED PIZZAS from Cadenza Pizza \, this year\, Trivia Night will also feature:– Spinach & Artichoke Dip– A Pannuzzo Sandwich (pizza dough stuffed with fresh ingredients)– A fruit & Nutella Dessert Pizza– And more weekly specials!\n1 SIGNATURE PIZZA & 2 BEERS for $25 !!1 SIGNATURE PIZZA  & 2 GLASSES of WINE for $35 !!\nTrivia Prizes include bottles of wine \, cafe & store gift cards and more!! Food service starts at 6:30 and Trivia at 7:00!\n\nPLEASE RESERVE EARLY at 561-798-5334. See you there for more fun and laughs !!
URL:https://villagemusicwellington.com/event/trivia-night-with-freshly-baked-pizza-14/2026-04-27/
LOCATION:Village Music Cafe\, 10410 West Forest Hill Blvd\, Wellington\, FL\, 33414\, United States
ATTACH;FMTTYPE=image/jpeg:https://villagemusicwellington.com/wp-content/uploads/2026/01/Trivia-and-Pizza.jpg
GEO:26.6498445;-80.2102983
X-APPLE-STRUCTURED-LOCATION;VALUE=URI;X-ADDRESS=Village Music Cafe 10410 West Forest Hill Blvd Wellington FL 33414 United States;X-APPLE-RADIUS=500;X-TITLE=10410 West Forest Hill Blvd:geo:-80.2102983,26.6498445
END:VEVENT
END:VCALENDAR