BEGIN:VCALENDAR
VERSION:2.0
PRODID:-//Village Music Wellington - ECPv6.15.20//NONSGML v1.0//EN
CALSCALE:GREGORIAN
METHOD:PUBLISH
X-WR-CALNAME:Village Music Wellington
X-ORIGINAL-URL:https://villagemusicwellington.com
X-WR-CALDESC:Events for Village Music Wellington
REFRESH-INTERVAL;VALUE=DURATION:PT1H
X-Robots-Tag:noindex
X-PUBLISHED-TTL:PT1H
BEGIN:VTIMEZONE
TZID:America/New_York
BEGIN:DAYLIGHT
TZOFFSETFROM:-0500
TZOFFSETTO:-0400
TZNAME:EDT
DTSTART:20230312T070000
END:DAYLIGHT
BEGIN:STANDARD
TZOFFSETFROM:-0400
TZOFFSETTO:-0500
TZNAME:EST
DTSTART:20231105T060000
END:STANDARD
BEGIN:DAYLIGHT
TZOFFSETFROM:-0500
TZOFFSETTO:-0400
TZNAME:EDT
DTSTART:20240310T070000
END:DAYLIGHT
BEGIN:STANDARD
TZOFFSETFROM:-0400
TZOFFSETTO:-0500
TZNAME:EST
DTSTART:20241103T060000
END:STANDARD
BEGIN:DAYLIGHT
TZOFFSETFROM:-0500
TZOFFSETTO:-0400
TZNAME:EDT
DTSTART:20250309T070000
END:DAYLIGHT
BEGIN:STANDARD
TZOFFSETFROM:-0400
TZOFFSETTO:-0500
TZNAME:EST
DTSTART:20251102T060000
END:STANDARD
END:VTIMEZONE
BEGIN:VEVENT
DTSTART;TZID=America/New_York:20240301T200000
DTEND;TZID=America/New_York:20240301T230000
DTSTAMP:20260421T081050
CREATED:20240225T212135Z
LAST-MODIFIED:20240225T212157Z
UID:10000900-1709323200-1709334000@villagemusicwellington.com
SUMMARY:Indigo Dreamers Live!
DESCRIPTION:Friday\, Mar 1st @ 8:00 p.m. \n\n\nSATURDAY @ 8:00 – don’t two of the finest musicians South Florida has to offer!! Indigo Dreamers are a power duo that has been been writing songs and performing on the South Florida music scene for years. In 2014\, Jamie won the iTunes Music Festival Competition for her song “Blue”\, which inspired their first single. The duo tenderly weaves together the past and the present with a unique blend of rock\, pop and R&B covers and originals. Jamie’s soaring vocals and Pouya’s precision musicianship make this a show not to me missed! Please reserve ahead! $8 Live Music Fee. \n\n\nCLICK HERE TO BUY TICKETS ONLINE. (Takes you to our other website.)
URL:https://villagemusicwellington.com/event/indigo-dreamers-live-14/
LOCATION:Village Music Cafe\, 10410 West Forest Hill Blvd\, Wellington\, FL\, 33414\, United States
ATTACH;FMTTYPE=image/jpeg:https://villagemusicwellington.com/wp-content/uploads/2024/02/Indigo-Dreamers.jpg
GEO:26.6498445;-80.2102983
X-APPLE-STRUCTURED-LOCATION;VALUE=URI;X-ADDRESS=Village Music Cafe 10410 West Forest Hill Blvd Wellington FL 33414 United States;X-APPLE-RADIUS=500;X-TITLE=10410 West Forest Hill Blvd:geo:-80.2102983,26.6498445
END:VEVENT
BEGIN:VEVENT
DTSTART;TZID=America/New_York:20240302T200000
DTEND;TZID=America/New_York:20240302T230000
DTSTAMP:20260421T081050
CREATED:20240225T212307Z
LAST-MODIFIED:20240225T212307Z
UID:10000901-1709409600-1709420400@villagemusicwellington.com
SUMMARY:Remedy Live!
DESCRIPTION:Remedy Live! \n\n\nSaturday\, Mar 2nd @ 8:00 p.m. \n\n\nDon’t miss REMEDY at the Village Music Cafe! This five-piece band rocks the house with their phenomenal classic rock repertoire! Put on your dancin’ shoes and come on out for a fun night of live music at Wellington’s favorite hangout . Dinner starts at 6:30\, music at 8:00. PLEASE RESERVE AHEAD at 561-798-533!
URL:https://villagemusicwellington.com/event/remedy-live-11/
LOCATION:Village Music Cafe\, 10410 West Forest Hill Blvd\, Wellington\, FL\, 33414\, United States
ATTACH;FMTTYPE=image/jpeg:https://villagemusicwellington.com/wp-content/uploads/2024/02/Remedy1.jpg
GEO:26.6498445;-80.2102983
X-APPLE-STRUCTURED-LOCATION;VALUE=URI;X-ADDRESS=Village Music Cafe 10410 West Forest Hill Blvd Wellington FL 33414 United States;X-APPLE-RADIUS=500;X-TITLE=10410 West Forest Hill Blvd:geo:-80.2102983,26.6498445
END:VEVENT
BEGIN:VEVENT
DTSTART;TZID=America/New_York:20240304T190000
DTEND;TZID=America/New_York:20240304T220000
DTSTAMP:20260421T081050
CREATED:20231029T200707Z
LAST-MODIFIED:20231029T202523Z
UID:10000840-1709578800-1709589600@villagemusicwellington.com
SUMMARY:Trivia Night with Freshly Baked Pizza
DESCRIPTION:MONDAY @ 7:00!! Join the best TRIVIA NIGHT and THE BEST PIZZA IN TOWN from Cadenza Pizza\, freshly baked on our patio!\n1 SIGNATURE PIZZA & 3 BEERS for $25!!\nTrivia Prizes include a WINE PAIRING DINNER valued at $70\, bottles of wine\, cafe & store gift cards and more great prizes!! Food service starts at 6:30 and Trivia at 7:00!\nPlease reserve ahead at 561-798-5334.
URL:https://villagemusicwellington.com/event/trivia-night-with-freshly-baked-pizza-3/2024-03-04/
LOCATION:Village Music Cafe\, 10410 West Forest Hill Blvd\, Wellington\, FL\, 33414\, United States
GEO:26.6498445;-80.2102983
X-APPLE-STRUCTURED-LOCATION;VALUE=URI;X-ADDRESS=Village Music Cafe 10410 West Forest Hill Blvd Wellington FL 33414 United States;X-APPLE-RADIUS=500;X-TITLE=10410 West Forest Hill Blvd:geo:-80.2102983,26.6498445
END:VEVENT
BEGIN:VEVENT
DTSTART;TZID=America/New_York:20240307T190000
DTEND;TZID=America/New_York:20240307T220000
DTSTAMP:20260421T081050
CREATED:20230714T170712Z
LAST-MODIFIED:20230714T170712Z
UID:10000719-1709838000-1709848800@villagemusicwellington.com
SUMMARY:1st Thursday Open Mic Night!
DESCRIPTION:Join us for OPEN MIC! We invite all musicians\, karaoke singers\, poets and stand-up comedians to come in and make the Village Music stage their own!!! Attention Musicians: We vet acts for weekend gigs at Open Mic!! We look forward to welcoming all genres of artists sharing their talents with the community. Or just sit back\, relax\, enjoy the cafe’s artisan menu and take in the show. Please call ahead to reserve your spot at 561-798-5334.
URL:https://villagemusicwellington.com/event/1st-thursday-open-mic-night-2/2024-03-07/
LOCATION:Village Music Cafe\, 10410 West Forest Hill Blvd\, Wellington\, FL\, 33414\, United States
ATTACH;FMTTYPE=image/jpeg:https://villagemusicwellington.com/wp-content/uploads/2021/02/Open_mike_night_1st_thursday.jpg
GEO:26.6498445;-80.2102983
X-APPLE-STRUCTURED-LOCATION;VALUE=URI;X-ADDRESS=Village Music Cafe 10410 West Forest Hill Blvd Wellington FL 33414 United States;X-APPLE-RADIUS=500;X-TITLE=10410 West Forest Hill Blvd:geo:-80.2102983,26.6498445
END:VEVENT
BEGIN:VEVENT
DTSTART;TZID=America/New_York:20240308T200000
DTEND;TZID=America/New_York:20240308T230000
DTSTAMP:20260421T081050
CREATED:20240305T194257Z
LAST-MODIFIED:20240305T194257Z
UID:10000905-1709928000-1709938800@villagemusicwellington.com
SUMMARY:The Shindig Live!
DESCRIPTION:FRIDAY @ 8:00! Please join us in welcoming THE SHINDIG back to the Village Music stage! This power acoustic/electric rock duo blends the hottest Top 10 hits from the ‘60’s to today! Sami’s soaring vocals combined with Cliff’s guitar mastery make for a show you won’t want to miss! Put on your dancing shoes  and join the party! NO LIVE MUSIC FEE. PLEASE RESERVE AHEAD at 561-798-5334
URL:https://villagemusicwellington.com/event/the-shindig-live-3/
LOCATION:Village Music Cafe\, 10410 West Forest Hill Blvd\, Wellington\, FL\, 33414\, United States
ATTACH;FMTTYPE=image/jpeg:https://villagemusicwellington.com/wp-content/uploads/2023/11/The-Shindig.jpg
GEO:26.6498445;-80.2102983
X-APPLE-STRUCTURED-LOCATION;VALUE=URI;X-ADDRESS=Village Music Cafe 10410 West Forest Hill Blvd Wellington FL 33414 United States;X-APPLE-RADIUS=500;X-TITLE=10410 West Forest Hill Blvd:geo:-80.2102983,26.6498445
END:VEVENT
BEGIN:VEVENT
DTSTART;TZID=America/New_York:20240309T200000
DTEND;TZID=America/New_York:20240309T230000
DTSTAMP:20260421T081050
CREATED:20240304T181140Z
LAST-MODIFIED:20240304T182534Z
UID:10000904-1710014400-1710025200@villagemusicwellington.com
SUMMARY:Soulshine Live!
DESCRIPTION:Please join us in welcoming the fabulous SOULSHINE BAND back to the Village Music stage!! Christine Ranieri and her five-piece band will rock the house with their phenomenal classic rock repertoire! Put on your dancin’ shoes and come on out for a fun night of live music at Wellington’s favorite hangout . Dinner starts at 6:30\, music at 8:00. PLEASE RESERVE AHEAD at 561-798-5334!
URL:https://villagemusicwellington.com/event/soulshine-live-5/
LOCATION:Village Music Cafe\, 10410 West Forest Hill Blvd\, Wellington\, FL\, 33414\, United States
ATTACH;FMTTYPE=image/jpeg:https://villagemusicwellington.com/wp-content/uploads/2024/03/Soulshine_Live.jpg
GEO:26.6498445;-80.2102983
X-APPLE-STRUCTURED-LOCATION;VALUE=URI;X-ADDRESS=Village Music Cafe 10410 West Forest Hill Blvd Wellington FL 33414 United States;X-APPLE-RADIUS=500;X-TITLE=10410 West Forest Hill Blvd:geo:-80.2102983,26.6498445
END:VEVENT
BEGIN:VEVENT
DTSTART;TZID=America/New_York:20240311T190000
DTEND;TZID=America/New_York:20240311T220000
DTSTAMP:20260421T081050
CREATED:20231029T200707Z
LAST-MODIFIED:20231029T202523Z
UID:10000841-1710183600-1710194400@villagemusicwellington.com
SUMMARY:Trivia Night with Freshly Baked Pizza
DESCRIPTION:MONDAY @ 7:00!! Join the best TRIVIA NIGHT and THE BEST PIZZA IN TOWN from Cadenza Pizza\, freshly baked on our patio!\n1 SIGNATURE PIZZA & 3 BEERS for $25!!\nTrivia Prizes include a WINE PAIRING DINNER valued at $70\, bottles of wine\, cafe & store gift cards and more great prizes!! Food service starts at 6:30 and Trivia at 7:00!\nPlease reserve ahead at 561-798-5334.
URL:https://villagemusicwellington.com/event/trivia-night-with-freshly-baked-pizza-3/2024-03-11/
LOCATION:Village Music Cafe\, 10410 West Forest Hill Blvd\, Wellington\, FL\, 33414\, United States
GEO:26.6498445;-80.2102983
X-APPLE-STRUCTURED-LOCATION;VALUE=URI;X-ADDRESS=Village Music Cafe 10410 West Forest Hill Blvd Wellington FL 33414 United States;X-APPLE-RADIUS=500;X-TITLE=10410 West Forest Hill Blvd:geo:-80.2102983,26.6498445
END:VEVENT
BEGIN:VEVENT
DTSTART;TZID=America/New_York:20240314T193000
DTEND;TZID=America/New_York:20240314T223000
DTSTAMP:20260421T081050
CREATED:20240313T004631Z
LAST-MODIFIED:20240313T004631Z
UID:10000907-1710444600-1710455400@villagemusicwellington.com
SUMMARY:Istanbul Groove Live!
DESCRIPTION:hursday\, Mar 14th @ 7:30 p.m. \n\n\nPlease join us for the debut of the fabulous ISTANBUL GROOVE Band at the Village Music Cafe! Istanbul Groove came together as a unique musical endeavor dedicated to crafting Turkish pop tunes and spreading joy through vibrant performances. Their passion lies in creating memorable musical experiences for their audience. $20 Live Music Fee. This show will sell out\, so get your tickets now! CLICK HERE TO BUY TICKETS ONLINE. (Takes you to our other website.)
URL:https://villagemusicwellington.com/event/istanbul-groove-live/
LOCATION:Village Music Cafe\, 10410 West Forest Hill Blvd\, Wellington\, FL\, 33414\, United States
ATTACH;FMTTYPE=image/jpeg:https://villagemusicwellington.com/wp-content/uploads/2024/03/Istanbul-Groove.jpg
GEO:26.6498445;-80.2102983
X-APPLE-STRUCTURED-LOCATION;VALUE=URI;X-ADDRESS=Village Music Cafe 10410 West Forest Hill Blvd Wellington FL 33414 United States;X-APPLE-RADIUS=500;X-TITLE=10410 West Forest Hill Blvd:geo:-80.2102983,26.6498445
END:VEVENT
BEGIN:VEVENT
DTSTART;TZID=America/New_York:20240315T200000
DTEND;TZID=America/New_York:20240315T230000
DTSTAMP:20260421T081050
CREATED:20240313T005021Z
LAST-MODIFIED:20240313T005021Z
UID:10000908-1710532800-1710543600@villagemusicwellington.com
SUMMARY:Mitch Herrick Duo Live!
DESCRIPTION:Friday\, Mar 15th @ 8:00 p.m. \n\n\nPlease join us in welcoming the fabulous MITCH HERRICK DUO back to the Village Music Cafe ! Front man for the Homegrown Sinners Band\, Mitch Herrick is a fabulous musician whose eclectic mix of covers and originals goes beyond standard classic rock standards to include Stevie Wonder\, Dave Mathews\, Pink Floyd and more. Over the course of his musical career\, Mitch has shared stages with The Doobie Brothers\, Dave Mathews\, Robert Plant\, The Goo Goo Dolls\, Kid Rock and many more. According to Viberate Magazine\, “Mitch Herrick is a legendary performer…his distinct fusion of classic and modern elements together with his authentic enthusiasm for storytelling distinguishes him from others.” $5 Live Music Fee. CLICK HERE TO BUY TICKETS ONLINE. (Takes you to our other website.)
URL:https://villagemusicwellington.com/event/mitch-herrick-duo-live/
LOCATION:Village Music Cafe\, 10410 West Forest Hill Blvd\, Wellington\, FL\, 33414\, United States
ATTACH;FMTTYPE=image/jpeg:https://villagemusicwellington.com/wp-content/uploads/2023/12/Mitch-Herrick-Duo.jpg
GEO:26.6498445;-80.2102983
X-APPLE-STRUCTURED-LOCATION;VALUE=URI;X-ADDRESS=Village Music Cafe 10410 West Forest Hill Blvd Wellington FL 33414 United States;X-APPLE-RADIUS=500;X-TITLE=10410 West Forest Hill Blvd:geo:-80.2102983,26.6498445
END:VEVENT
BEGIN:VEVENT
DTSTART;TZID=America/New_York:20240316T200000
DTEND;TZID=America/New_York:20240316T230000
DTSTAMP:20260421T081050
CREATED:20240225T214439Z
LAST-MODIFIED:20240225T214439Z
UID:10000902-1710619200-1710630000@villagemusicwellington.com
SUMMARY:JP Soars & the Red Hots Live!
DESCRIPTION:Saturday\, Mar 16th @ 8:00 p.m. \n\n\nWhat an honor it is to welcome JP SOARS & The Red Hots back to the Village Music stage! JP is an internationally acclaimed blues guitarist who won 1st Place in the 2009 International Blues Challenge in Memphis and was nominated as “Blues Rock Artist of the Year” at the 40th Annual blues Music Awards. JP has released five albums\, toured internationally and received extensive worldwide airplay. We are thrilled to welcome him back to Village Music! $10 Live Music Fee. Please get your tickets early for this show – they will sell out! CLICK HERE TO BUY TICKETS ONLINE. (Takes you to our other website.)
URL:https://villagemusicwellington.com/event/jp-soars-the-red-hots-live-5/
LOCATION:Village Music Cafe\, 10410 West Forest Hill Blvd\, Wellington\, FL\, 33414\, United States
GEO:26.6498445;-80.2102983
X-APPLE-STRUCTURED-LOCATION;VALUE=URI;X-ADDRESS=Village Music Cafe 10410 West Forest Hill Blvd Wellington FL 33414 United States;X-APPLE-RADIUS=500;X-TITLE=10410 West Forest Hill Blvd:geo:-80.2102983,26.6498445
END:VEVENT
BEGIN:VEVENT
DTSTART;TZID=America/New_York:20240318T190000
DTEND;TZID=America/New_York:20240318T220000
DTSTAMP:20260421T081050
CREATED:20240317T203655Z
LAST-MODIFIED:20240317T203824Z
UID:10000909-1710788400-1710799200@villagemusicwellington.com
SUMMARY:Trivia Night with Freshly Baked Pizza
DESCRIPTION:MONDAY @ 7:00!! TRIVIA NIGHT is a blast ! Join us for the BEST TRIVIA and THE BEST PIZZA IN TOWN from Cadenza Pizza !\n1 SIGNATURE PIZZA & 2 BEERS for $25 !!\n1 SIGNATURE PIZZA  & 2 GLASSES of WINE for $30 !!\nTrivia Prizes include bottles of wine \, cafe & store gift cards and more great prizes!! Food service starts at 6:30 and Trivia at 7:00!\nPlease reserve ahead at 561-798-5334. See you there for more fun and laughs !!
URL:https://villagemusicwellington.com/event/trivia-night-with-freshly-baked-pizza-5/2024-03-18/
LOCATION:Village Music Cafe\, 10410 West Forest Hill Blvd\, Wellington\, FL\, 33414\, United States
GEO:26.6498445;-80.2102983
X-APPLE-STRUCTURED-LOCATION;VALUE=URI;X-ADDRESS=Village Music Cafe 10410 West Forest Hill Blvd Wellington FL 33414 United States;X-APPLE-RADIUS=500;X-TITLE=10410 West Forest Hill Blvd:geo:-80.2102983,26.6498445
END:VEVENT
BEGIN:VEVENT
DTSTART;TZID=America/New_York:20240321T190000
DTEND;TZID=America/New_York:20240321T220000
DTSTAMP:20260421T081050
CREATED:20231119T215922Z
LAST-MODIFIED:20231119T215922Z
UID:10000857-1711047600-1711058400@villagemusicwellington.com
SUMMARY:3rd Thursday Open Mic Night!
DESCRIPTION:Thursday  @ 7:00 p.m. \nJoin us every 1st and 3rd Thursday for OPEN MIC ! We invite all musicians\, karaoke singers\, poets and stand-up comedians to come in and make the Village Music stage their own !!! Attention Musicians: We vet acts for weekend gigs at Open Mic!! We look forward to welcoming all genres of artists sharing their talents with the community. Or just sit back\, relax\, enjoy the cafe’s artisan menu and take in the show . Please call ahead to reserve your spot at 561-798-5334.
URL:https://villagemusicwellington.com/event/3rd-thursday-open-mic-night-3/2024-03-21/
LOCATION:Village Music Cafe\, 10410 West Forest Hill Blvd\, Wellington\, FL\, 33414\, United States
ATTACH;FMTTYPE=image/jpeg:https://villagemusicwellington.com/wp-content/uploads/2019/07/Open_mic_night-e1767882264305.jpg
GEO:26.6498445;-80.2102983
X-APPLE-STRUCTURED-LOCATION;VALUE=URI;X-ADDRESS=Village Music Cafe 10410 West Forest Hill Blvd Wellington FL 33414 United States;X-APPLE-RADIUS=500;X-TITLE=10410 West Forest Hill Blvd:geo:-80.2102983,26.6498445
END:VEVENT
BEGIN:VEVENT
DTSTART;TZID=America/New_York:20240322T200000
DTEND;TZID=America/New_York:20240322T230000
DTSTAMP:20260421T081050
CREATED:20240318T013317Z
LAST-MODIFIED:20240318T013317Z
UID:10000919-1711137600-1711148400@villagemusicwellington.com
SUMMARY:The Flyers Live!
DESCRIPTION:Friday\, Mar 22nd @ 8:00 p.m. \n\n\nDON’T MISS your chance to experience one of the most unique and talented bands in South Florida – the absolutely extraordinary FLYERS are back to rock the Village Music Cafe!! \nOne of SOFLO’s most popular bands\, these phenomenal musicians play both classic rock hits and originals\, and are a tight-knit unit of multi-instrumentalists that never ceases to amaze their audiences!! Influences include Clapton\, Hendrix & Led Zeppelin. PLEASE GET YOUR TICKETS EARLY as this performance WILL SELL OUT!\n$10 Live music fee. CLICK HERE TO BUY TICKETS ONLINE. (Takes you to our other website.)
URL:https://villagemusicwellington.com/event/the-flyers-live-10/
LOCATION:Village Music Cafe\, 10410 West Forest Hill Blvd\, Wellington\, FL\, 33414\, United States
ATTACH;FMTTYPE=image/jpeg:https://villagemusicwellington.com/wp-content/uploads/2023/09/The-Flyers.jpg
GEO:26.6498445;-80.2102983
X-APPLE-STRUCTURED-LOCATION;VALUE=URI;X-ADDRESS=Village Music Cafe 10410 West Forest Hill Blvd Wellington FL 33414 United States;X-APPLE-RADIUS=500;X-TITLE=10410 West Forest Hill Blvd:geo:-80.2102983,26.6498445
END:VEVENT
BEGIN:VEVENT
DTSTART;TZID=America/New_York:20240323T200000
DTEND;TZID=America/New_York:20240323T230000
DTSTAMP:20260421T081050
CREATED:20240318T013717Z
LAST-MODIFIED:20240318T013717Z
UID:10000920-1711224000-1711234800@villagemusicwellington.com
SUMMARY:The Fabulous Fleetwoods Live!
DESCRIPTION:Saturday\, Mar 23rd @ 8:00 p.m. \n\n\nYou will not want to miss the truly FABULOUS FLEETWOODS at the Village Music Cafe – these guys are AWESOME!! Since 1982\, the Fleetwoods have been entertaining South Florida with their unique blend of hard-charged rock covers and rocked up and inspired blues . They’ve opened for Eddie Money\, Three Dog Night\, Dave Mason\, Dickey Betts\, Blues Traveler and more! Frequently labeled as the “Longest Running Blues Act in South Florida”\, the Fleetwoods will provide a Rock n’ Roll/Rhythm & Blues party second to none! Please get your tickets early. CLICK HERE TO BUY TICKETS ONLINE. (Takes you to our other website.)
URL:https://villagemusicwellington.com/event/the-fabulous-fleetwoods-live/
LOCATION:Village Music Cafe\, 10410 West Forest Hill Blvd\, Wellington\, FL\, 33414\, United States
ATTACH;FMTTYPE=image/jpeg:https://villagemusicwellington.com/wp-content/uploads/2023/12/The-Fleetwoods.jpg
GEO:26.6498445;-80.2102983
X-APPLE-STRUCTURED-LOCATION;VALUE=URI;X-ADDRESS=Village Music Cafe 10410 West Forest Hill Blvd Wellington FL 33414 United States;X-APPLE-RADIUS=500;X-TITLE=10410 West Forest Hill Blvd:geo:-80.2102983,26.6498445
END:VEVENT
BEGIN:VEVENT
DTSTART;TZID=America/New_York:20240325T190000
DTEND;TZID=America/New_York:20240325T220000
DTSTAMP:20260421T081050
CREATED:20240317T203655Z
LAST-MODIFIED:20240317T203824Z
UID:10000910-1711393200-1711404000@villagemusicwellington.com
SUMMARY:Trivia Night with Freshly Baked Pizza
DESCRIPTION:MONDAY @ 7:00!! TRIVIA NIGHT is a blast ! Join us for the BEST TRIVIA and THE BEST PIZZA IN TOWN from Cadenza Pizza !\n1 SIGNATURE PIZZA & 2 BEERS for $25 !!\n1 SIGNATURE PIZZA  & 2 GLASSES of WINE for $30 !!\nTrivia Prizes include bottles of wine \, cafe & store gift cards and more great prizes!! Food service starts at 6:30 and Trivia at 7:00!\nPlease reserve ahead at 561-798-5334. See you there for more fun and laughs !!
URL:https://villagemusicwellington.com/event/trivia-night-with-freshly-baked-pizza-5/2024-03-25/
LOCATION:Village Music Cafe\, 10410 West Forest Hill Blvd\, Wellington\, FL\, 33414\, United States
GEO:26.6498445;-80.2102983
X-APPLE-STRUCTURED-LOCATION;VALUE=URI;X-ADDRESS=Village Music Cafe 10410 West Forest Hill Blvd Wellington FL 33414 United States;X-APPLE-RADIUS=500;X-TITLE=10410 West Forest Hill Blvd:geo:-80.2102983,26.6498445
END:VEVENT
BEGIN:VEVENT
DTSTART;TZID=America/New_York:20240328T193000
DTEND;TZID=America/New_York:20240328T223000
DTSTAMP:20260421T081050
CREATED:20240318T015020Z
LAST-MODIFIED:20240318T015020Z
UID:10000922-1711654200-1711665000@villagemusicwellington.com
SUMMARY:Indecisive Live!
DESCRIPTION:Thursday\, Mar 28th @ 7:30 p.m. \n\n\nWe are thrilled to welcome the INDECISIVE band back to the Village Music Cafe! This five-piece band will rock the house with their phenomenal classic rock repertoire! Put on your dancin’ shoes and come on out for a fun night of live music at Wellington’s favorite hangout . Dinner starts at 6:30\, music at 7:30. PLEASE RESERVE AHEAD at 561-798-5334!
URL:https://villagemusicwellington.com/event/indecisive-live-4/
LOCATION:Village Music Cafe\, 10410 West Forest Hill Blvd\, Wellington\, FL\, 33414\, United States
ATTACH;FMTTYPE=image/jpeg:https://villagemusicwellington.com/wp-content/uploads/2024/03/Indecisive.jpg
GEO:26.6498445;-80.2102983
X-APPLE-STRUCTURED-LOCATION;VALUE=URI;X-ADDRESS=Village Music Cafe 10410 West Forest Hill Blvd Wellington FL 33414 United States;X-APPLE-RADIUS=500;X-TITLE=10410 West Forest Hill Blvd:geo:-80.2102983,26.6498445
END:VEVENT
BEGIN:VEVENT
DTSTART;TZID=America/New_York:20240329T200000
DTEND;TZID=America/New_York:20240329T230000
DTSTAMP:20260421T081050
CREATED:20240318T015253Z
LAST-MODIFIED:20240324T223929Z
UID:10000923-1711742400-1711753200@villagemusicwellington.com
SUMMARY:Matt Schofield & The Westside Blues Band Live!
DESCRIPTION:Guitarist of the year \n\n\nFriday\, Mar 29th @ 8:00 p.m \n\n\nMatt Schofield continues to push the frontiers and reshape the boundaries of the British Blues tradition. A multi-award winning guitar virtuoso\, singer\, songwriter\, producer and band leader\, after more than 30 years of performing\, and 20 years into his solo career\, Schofield’s impact as one of the most influential and distinctive guitarists of his generation is unquestionable. \nAlong with a storied career that has taken him and his band to nearly 30 countries worldwide comes awards\, industry and critical acclaim – three time “British Blues Guitarist of the Year”\, “British Blues Album of the Year” and the first guitarist inducted into the “British Blues Awards Hall of Fame”. Mojo Magazine “Blues Album of the Year” and Guitar & Bass Magazines “Top Ten British Blues Guitarist of All Time” alongside Eric Clapton and Peter Green \nFolks\, don’t miss Matt and the WESTSIDE BLUES BAND – this show will be exceptional. CLICK HERE TO BUY TICKETS ONLINE. (Takes you to our other website.)
URL:https://villagemusicwellington.com/event/matt-schofield-the-westside-blues-band-live/
LOCATION:Village Music Cafe\, 10410 West Forest Hill Blvd\, Wellington\, FL\, 33414\, United States
ATTACH;FMTTYPE=image/jpeg:https://villagemusicwellington.com/wp-content/uploads/2024/03/Matt-Schofield.jpg
GEO:26.6498445;-80.2102983
X-APPLE-STRUCTURED-LOCATION;VALUE=URI;X-ADDRESS=Village Music Cafe 10410 West Forest Hill Blvd Wellington FL 33414 United States;X-APPLE-RADIUS=500;X-TITLE=10410 West Forest Hill Blvd:geo:-80.2102983,26.6498445
END:VEVENT
BEGIN:VEVENT
DTSTART;TZID=America/New_York:20240330T200000
DTEND;TZID=America/New_York:20240330T230000
DTSTAMP:20260421T081050
CREATED:20240324T223253Z
LAST-MODIFIED:20240324T223846Z
UID:10000924-1711828800-1711839600@villagemusicwellington.com
SUMMARY:John Parker Live!
DESCRIPTION:Friday\, Mar 29th @ 8:00 p.m. \n\n\nWe are thrilled to welcome the fabulously talented JOHN PARKER – vocalist of THE TRIO – for a solo performance at the Village Music Cafe! Join us for a fun-filled evening as we dance the night away to John’s groovin’ repertoire and amazing vocal talents! This show will sell out so PLEASE RESERVE AHEAD!\n$5 live music fee for this show. CLICK HERE TO BUY TICKETS ONLINE. (Takes you to our other website.)
URL:https://villagemusicwellington.com/event/john-parker-live-3/
LOCATION:Village Music Cafe\, 10410 West Forest Hill Blvd\, Wellington\, FL\, 33414\, United States
ATTACH;FMTTYPE=image/jpeg:https://villagemusicwellington.com/wp-content/uploads/2023/05/John-Parker.jpg
GEO:26.6498445;-80.2102983
X-APPLE-STRUCTURED-LOCATION;VALUE=URI;X-ADDRESS=Village Music Cafe 10410 West Forest Hill Blvd Wellington FL 33414 United States;X-APPLE-RADIUS=500;X-TITLE=10410 West Forest Hill Blvd:geo:-80.2102983,26.6498445
END:VEVENT
END:VCALENDAR